BEGIN:VCALENDAR
VERSION:2.0
PRODID:-//Habitat for Humanity Detroit - ECPv6.15.18//NONSGML v1.0//EN
CALSCALE:GREGORIAN
METHOD:PUBLISH
X-WR-CALNAME:Habitat for Humanity Detroit
X-ORIGINAL-URL:https://habitatdetroit.org
X-WR-CALDESC:Events for Habitat for Humanity Detroit
REFRESH-INTERVAL;VALUE=DURATION:PT1H
X-Robots-Tag:noindex
X-PUBLISHED-TTL:PT1H
BEGIN:VTIMEZONE
TZID:America/Detroit
BEGIN:DAYLIGHT
TZOFFSETFROM:-0500
TZOFFSETTO:-0400
TZNAME:EDT
DTSTART:20250309T070000
END:DAYLIGHT
BEGIN:STANDARD
TZOFFSETFROM:-0400
TZOFFSETTO:-0500
TZNAME:EST
DTSTART:20251102T060000
END:STANDARD
BEGIN:DAYLIGHT
TZOFFSETFROM:-0500
TZOFFSETTO:-0400
TZNAME:EDT
DTSTART:20260308T070000
END:DAYLIGHT
BEGIN:STANDARD
TZOFFSETFROM:-0400
TZOFFSETTO:-0500
TZNAME:EST
DTSTART:20261101T060000
END:STANDARD
BEGIN:DAYLIGHT
TZOFFSETFROM:-0500
TZOFFSETTO:-0400
TZNAME:EDT
DTSTART:20270314T070000
END:DAYLIGHT
BEGIN:STANDARD
TZOFFSETFROM:-0400
TZOFFSETTO:-0500
TZNAME:EST
DTSTART:20271107T060000
END:STANDARD
END:VTIMEZONE
BEGIN:VEVENT
DTSTART;TZID=America/Detroit:20260312T120000
DTEND;TZID=America/Detroit:20260312T133000
DTSTAMP:20260422T055118
CREATED:20260205T143102Z
LAST-MODIFIED:20260205T143102Z
UID:27524-1773316800-1773322200@habitatdetroit.org
SUMMARY:Life Planning & Legacy
DESCRIPTION:Join us for a webinar on securing your family’s financial future through estate planning Learn about key legal tools like Trusts Wills\, Ladybird Deeds\, and powers of attorney to distribute your assets effectively. \nWhat You’ll Gain \n\nPower of Attorney for Health Care: Appoint a trusted agent to make health care decisions on your behalf.\nPower of Attorney for Finances: Appoint a trusted agent to manage your assets and financial matters.\nLadybird Deed: Transfers property upon death to avoid probate.\nTrust Agreement: Designates a trustee to manage property for the benefit of a chosen individual.\n\n  \nLed by experienced attorneys from Elder Law & Neighborhood Legal Services\, this session will equip you with the knowledge to protect your assets and build generational wealth. \nFollowing the webinar\, you will receive a worksheet designed to gather the essential information needed for an attorney to connect with you and provide personalized legal estate planning services. This follow-up ensures you have the tools and support to take the next steps in securing your future.
URL:https://habitatdetroit.org/event/life-planning-legacy-4/
LOCATION:Virtual Class
CATEGORIES:Homeowner Education,Virtual Classes
ATTACH;FMTTYPE=image/jpeg:https://habitatdetroit.org/wp-content/uploads/2025/08/generational-wealth.jpg
END:VEVENT
END:VCALENDAR